BEGIN:VCALENDAR
VERSION:2.0
PRODID:-//Cha(i)nge - Trans Peer Group Vienna - ECPv6.15.16//NONSGML v1.0//EN
CALSCALE:GREGORIAN
METHOD:PUBLISH
X-WR-CALNAME:Cha(i)nge - Trans Peer Group Vienna
X-ORIGINAL-URL:https://chaingepeergroup.at
X-WR-CALDESC:Veranstaltungen für Cha(i)nge - Trans Peer Group Vienna
REFRESH-INTERVAL;VALUE=DURATION:PT1H
X-Robots-Tag:noindex
X-PUBLISHED-TTL:PT1H
BEGIN:VTIMEZONE
TZID:Europe/Vienna
BEGIN:DAYLIGHT
TZOFFSETFROM:+0100
TZOFFSETTO:+0200
TZNAME:CEST
DTSTART:20220327T010000
END:DAYLIGHT
BEGIN:STANDARD
TZOFFSETFROM:+0200
TZOFFSETTO:+0100
TZNAME:CET
DTSTART:20221030T010000
END:STANDARD
BEGIN:DAYLIGHT
TZOFFSETFROM:+0100
TZOFFSETTO:+0200
TZNAME:CEST
DTSTART:20230326T010000
END:DAYLIGHT
BEGIN:STANDARD
TZOFFSETFROM:+0200
TZOFFSETTO:+0100
TZNAME:CET
DTSTART:20231029T010000
END:STANDARD
BEGIN:DAYLIGHT
TZOFFSETFROM:+0100
TZOFFSETTO:+0200
TZNAME:CEST
DTSTART:20240331T010000
END:DAYLIGHT
BEGIN:STANDARD
TZOFFSETFROM:+0200
TZOFFSETTO:+0100
TZNAME:CET
DTSTART:20241027T010000
END:STANDARD
END:VTIMEZONE
BEGIN:VEVENT
DTSTART;TZID=Europe/Vienna:20231202T140000
DTEND;TZID=Europe/Vienna:20231202T180000
DTSTAMP:20260423T141033
CREATED:20231116T104607Z
LAST-MODIFIED:20231116T104942Z
UID:4237-1701525600-1701540000@chaingepeergroup.at
SUMMARY:Jahresabschlusstreffen
DESCRIPTION:Wir halten einmal im Monat ein Treffen ab. Der genaue Ort des Treffens wird in unserem Discord Server und in unserer WhatsApp Gruppe angekündigt. \nDas Treffen ist für alle transmännlichen und afab nicht-binären Personen\, die mindestens 16 Jahre alt sind. Nehmt gerne Weihnachtskekse und Snacks mit 🎅\nBei den Treffen hat mensch die Gelegenheit\, Antworten auf Fragen rund um die Transition zu finden\, sich auszutauschen und einfach zu erzählen und verstanden zu werden.\n\nWir starten die Treffen mit einer Vorstellrunde. Außerdem laden wir euch ein\, auf euer Jahr zurückzublicken und erreichte Meilensteine oder Erkenntnisse zu teilen. Selbstverständlich alles auf freiwilliger Basis! Danach ist Zeit\, um sich auszutauschen und zu plaudern. Ihr könnt natürlich auch später dazustoßen!\nEs wird auch wieder Schrottwichteln geben. Wenn ihr mitmachen wollt\, bringt zum Treffen ein kleines Geschenk mit. Geschenke sollen aus dem eigenen Besitz stammen und nicht extra gekauft werden. \nDie Treffen sind auf Deutsch\, die meisten von uns sprechen aber auch gut und gerne Englisch.\nWir besitzen Binder\, die beim Treffen anprobiert werden können. Bitte dazu anmelden. Mehr Infos dazu hier: https://chaingepeergroup.at/binder#binder-anprobieren \nWir freuen uns auf dich! 🙂 \n  \n+++English+++ \nOnce a month we organize a meetup. The exact place of the meetup will be posted in our Discord server and in our WhatsApp group. \nAt the meetup all transmasculine and afab nonbinary persons\, who are older than 16 years\, are welcome. \nYou can bring Christmas cookies and snacks 🎅\nYou can ask questions about the transition or share your experience with others. \nWe will start the meetup with a brief round of introduction. We also invite you to look back on your year and share any milestones or insights you have achieved. All on a voluntary basis\, of course! Afterwards\, there will be time to exchange ideas and chat. Of course you can also join us later!\nWe will also play “Schrottwichteln”. If you want to take part\, bring a small gift to the meeting. Gifts should come from your own possessions and should not be bought just for this. \nThe meetups will be held in German\, however most of us also are also able and open to speaking in English\, if needed.\nWe own binders\, which can be tried on. Please sign up if you are interested. You can read more information here: https://chaingepeergroup.at/binder#binder-anprobieren \nWe are looking forward to seeing you! 🙂 \n 
URL:https://chaingepeergroup.at/event/jahresabschlusstreffen/
CATEGORIES:Monatstreffen
END:VEVENT
END:VCALENDAR